BEGIN:VCALENDAR
VERSION:2.0
PRODID:-//Staffing Industry News, Events, Blog, Resources, Marketing | Staffing Hub - ECPv6.11.2.1//NONSGML v1.0//EN
CALSCALE:GREGORIAN
METHOD:PUBLISH
X-WR-CALNAME:Staffing Industry News, Events, Blog, Resources, Marketing | Staffing Hub
X-ORIGINAL-URL:https://staffinghub.com
X-WR-CALDESC:Events for Staffing Industry News, Events, Blog, Resources, Marketing | Staffing Hub
REFRESH-INTERVAL;VALUE=DURATION:PT1H
X-Robots-Tag:noindex
X-PUBLISHED-TTL:PT1H
BEGIN:VTIMEZONE
TZID:America/New_York
BEGIN:DAYLIGHT
TZOFFSETFROM:-0500
TZOFFSETTO:-0400
TZNAME:EDT
DTSTART:20230312T070000
END:DAYLIGHT
BEGIN:STANDARD
TZOFFSETFROM:-0400
TZOFFSETTO:-0500
TZNAME:EST
DTSTART:20231105T060000
END:STANDARD
END:VTIMEZONE
BEGIN:VEVENT
DTSTART;TZID=America/New_York:20230718T130000
DTEND;TZID=America/New_York:20230718T130000
DTSTAMP:20260421T083659
CREATED:20230628T193240Z
LAST-MODIFIED:20230628T193351Z
UID:11057-1689685200-1689685200@staffinghub.com
SUMMARY:AI in Recruiting: Practical Use-Cases to be More Efficient
DESCRIPTION:Register for the webinar here \nFrom BrightHire: \nLately\, one of the biggest questions we hear from recruiters is: how do I start using AI? \nWhile the more ambitious use cases of AI are theoretical\, there are endless ways to apply AI to recruiting today. \nOne of the most practical ways? Using AI to build a more efficient hiring process. \nOn July 18th\, we’re bringing together a panel of recruiting leaders to discuss how they are leveraging AI to drive hiring efficiency. \nRegister here.
URL:https://staffinghub.com/staffing-industry-webinar/ai-in-recruiting-practical-use-cases-to-be-more-efficient/
ATTACH;FMTTYPE=image/png:https://staffinghub.com/wp-content/uploads/2023/06/BrightHire-logo-1.png
END:VEVENT
END:VCALENDAR