BEGIN:VCALENDAR
VERSION:2.0
PRODID:-//Staffing Industry News, Events, Blog, Resources, Marketing | Staffing Hub - ECPv6.11.2.1//NONSGML v1.0//EN
CALSCALE:GREGORIAN
METHOD:PUBLISH
X-WR-CALNAME:Staffing Industry News, Events, Blog, Resources, Marketing | Staffing Hub
X-ORIGINAL-URL:https://staffinghub.com
X-WR-CALDESC:Events for Staffing Industry News, Events, Blog, Resources, Marketing | Staffing Hub
REFRESH-INTERVAL;VALUE=DURATION:PT1H
X-Robots-Tag:noindex
X-PUBLISHED-TTL:PT1H
BEGIN:VTIMEZONE
TZID:America/New_York
BEGIN:DAYLIGHT
TZOFFSETFROM:-0500
TZOFFSETTO:-0400
TZNAME:EDT
DTSTART:20230312T070000
END:DAYLIGHT
BEGIN:STANDARD
TZOFFSETFROM:-0400
TZOFFSETTO:-0500
TZNAME:EST
DTSTART:20231105T060000
END:STANDARD
END:VTIMEZONE
BEGIN:VTIMEZONE
TZID:America/Los_Angeles
BEGIN:DAYLIGHT
TZOFFSETFROM:-0800
TZOFFSETTO:-0700
TZNAME:PDT
DTSTART:20230312T100000
END:DAYLIGHT
BEGIN:STANDARD
TZOFFSETFROM:-0700
TZOFFSETTO:-0800
TZNAME:PST
DTSTART:20231105T090000
END:STANDARD
END:VTIMEZONE
BEGIN:VEVENT
DTSTART;TZID=America/New_York:20230920T080000
DTEND;TZID=America/New_York:20230920T080000
DTSTAMP:20260423T072607
CREATED:20230911T192940Z
LAST-MODIFIED:20230911T192940Z
UID:11538-1695196800-1695196800@staffinghub.com
SUMMARY:Connected Recruiting: Attract\, Engage\, Onboard\, and Nurture Your Talent Like Never Before
DESCRIPTION:Register for the webinar here \nFrom Bullhorn: \nMeet Connected Recruiting. This new strategy enables you to Meet the Moment by pairing your technology with best practices to drive higher redeployment rates\, increased database engagement\, and higher talent satisfaction. \nRegister to join our Connected Recruiting webinar series\, featuring Marketplace partners\, industry thought leaders\, and Bullhorn customers to learn how to: \n• Episode 1 (May 18): Attract and convert more applicants. \n• Episode 2 (Jun 21): Master your talent engagement strategy. \n• Episode 3 (Sep 20): Create an incredible aftercare experience. \n• Episode 4 (Nov 22): Nurture your current database and increase redeployment rates. \nPlease note\, the date and time of these webinars might change but you will be notified if so. \nRegister here. \n 
URL:https://staffinghub.com/staffing-industry-webinar/connected-recruiting-attract-engage-onboard-and-nurture-your-talent-like-never-before/
ATTACH;FMTTYPE=image/png:https://staffinghub.com/wp-content/uploads/2023/09/bullhorn-logo.png
END:VEVENT
BEGIN:VEVENT
DTSTART;TZID=America/Los_Angeles:20230920T100000
DTEND;TZID=America/Los_Angeles:20230920T103000
DTSTAMP:20260423T072607
CREATED:20230906T211751Z
LAST-MODIFIED:20230906T211751Z
UID:11505-1695204000-1695205800@staffinghub.com
SUMMARY:The Evolution of CX: What’s Now and What’s Next
DESCRIPTION:Register for the webinar here \nFrom ClearlyRated: \n\n\n\n\nWhy attend this webinar?  \n\n\n\n\n\n\n\n\nAs staffing buyers navigate through a stormy economy\, the expectations of their staffing partners are evolving\, and so too is customer experience (CX). Growth-minded staffing and recruiting firms will need to adapt the experiences they deliver to key stakeholders—clients\, candidates\, and employees—in order to build reputation\, address churn risk\, and attract and retain the people who matter most to their business. \nWednesday\, September 20\, 2023 | 10 a.m. PT | 1:00 p.m. ET \nJoin us for a quick 30-minute webinar\, where Eric Gregg will share our latest proprietary research on the CX trends impacting staffing firms in 2023\, and share insights on the next wave of change in CX. \nWhat you’ll learn: \n\nThe attributes with the most influence on staffing decision-makers\nThe differences in customer expectations and preferences based on generation\nHow to create client\, candidate\, and employee experiences that go beyond satisfaction\nThe evolution of CX to always-on experience management\n\nYou’ll take away insights into the types of experiences your clients\, candidates\, and internal employees expect\, and learn how your firm can position itself to consistently deliver on the promise of world-class experiences. \nRegister here.
URL:https://staffinghub.com/staffing-industry-webinar/the-evolution-of-cx-whats-now-and-whats-next/
ATTACH;FMTTYPE=image/png:https://staffinghub.com/wp-content/uploads/2023/09/clearly-rated-logo.png
END:VEVENT
BEGIN:VEVENT
DTSTART;TZID=America/New_York:20230920T113000
DTEND;TZID=America/New_York:20230920T154000
DTSTAMP:20260423T072607
CREATED:20230707T010620Z
LAST-MODIFIED:20230707T010620Z
UID:11118-1695209400-1695224400@staffinghub.com
SUMMARY:Talent Summit 2023.
DESCRIPTION:Register for the webinar here \nFrom Gem: \nAmidst a landscape of evolving demands\, the need to transform Talent Acquisition into a strategic powerhouse has reached unprecedented heights. \nVisionary leaders from diverse industries are boldly exploring uncharted territories\, harnessing the power of data\, and revolutionizing team dynamics to secure critical open requisitions efficiently and at scale — all while forging talent brands that resonate\, and pierce through the competitive noise. \nUncover innovative solutions and become part of Gem’s expansive network of Talent Leaders who are shaping the future of recruiting at Talent Summit 2023. \nRegister here.
URL:https://staffinghub.com/staffing-industry-webinar/talent-summit-2023/
ATTACH;FMTTYPE=image/png:https://staffinghub.com/wp-content/uploads/2023/07/Gem-logo.png
END:VEVENT
END:VCALENDAR