BEGIN:VCALENDAR
VERSION:2.0
PRODID:-//Staffing Industry News, Events, Blog, Resources, Marketing | Staffing Hub - ECPv6.11.2.1//NONSGML v1.0//EN
CALSCALE:GREGORIAN
METHOD:PUBLISH
X-WR-CALNAME:Staffing Industry News, Events, Blog, Resources, Marketing | Staffing Hub
X-ORIGINAL-URL:https://staffinghub.com
X-WR-CALDESC:Events for Staffing Industry News, Events, Blog, Resources, Marketing | Staffing Hub
REFRESH-INTERVAL;VALUE=DURATION:PT1H
X-Robots-Tag:noindex
X-PUBLISHED-TTL:PT1H
BEGIN:VTIMEZONE
TZID:America/Detroit
BEGIN:DAYLIGHT
TZOFFSETFROM:-0500
TZOFFSETTO:-0400
TZNAME:EDT
DTSTART:20230312T070000
END:DAYLIGHT
BEGIN:STANDARD
TZOFFSETFROM:-0400
TZOFFSETTO:-0500
TZNAME:EST
DTSTART:20231105T060000
END:STANDARD
END:VTIMEZONE
BEGIN:VEVENT
DTSTART;TZID=America/Detroit:20231018T140000
DTEND;TZID=America/Detroit:20231018T150000
DTSTAMP:20260425T084417
CREATED:20231012T174531Z
LAST-MODIFIED:20231012T174531Z
UID:11855-1697637600-1697641200@staffinghub.com
SUMMARY:Inside the Data: Highlights from our 2023 Staffing Industry Benchmark Study
DESCRIPTION:Register here \nGet the New 2023 NPS® Benchmarks and Insights into our Latest Staffing Industry Research \nJoin ClearlyRated’s CEO Eric Gregg as he reveals brand new research\, including 2023 NPS® benchmarks and highlights from our 2023 Staffing Industry Benchmark Study. Get a sneak preview of our upcoming report\, and gain insight into the minds of staffing buyers and candidates. \nWhat you’ll learn: \n\nNew 2023 NPS benchmarks for the staffing and recruiting industry\nWhat’s driving staffing buyer decisions today\nHighlights from our new 2023 research into the satisfaction drivers for staffing buyers and job candidates\n\nCan’t Attend Live? No worries! We’ll send a recording to all registrants following the live webinar. Please go ahead and register so you can revisit the webinar at any time.
URL:https://staffinghub.com/staffing-industry-webinar/inside-the-data-highlights-from-our-2023-staffing-industry-benchmark-study/
ATTACH;FMTTYPE=image/png:https://staffinghub.com/wp-content/uploads/2023/10/clearly-rated-logo.png
END:VEVENT
END:VCALENDAR