BEGIN:VCALENDAR
VERSION:2.0
PRODID:-//Staffing Industry News, Events, Blog, Resources, Marketing | Staffing Hub - ECPv6.11.2.1//NONSGML v1.0//EN
CALSCALE:GREGORIAN
METHOD:PUBLISH
X-ORIGINAL-URL:https://staffinghub.com
X-WR-CALDESC:Events for Staffing Industry News, Events, Blog, Resources, Marketing | Staffing Hub
REFRESH-INTERVAL;VALUE=DURATION:PT1H
X-Robots-Tag:noindex
X-PUBLISHED-TTL:PT1H
BEGIN:VTIMEZONE
TZID:America/New_York
BEGIN:DAYLIGHT
TZOFFSETFROM:-0500
TZOFFSETTO:-0400
TZNAME:EDT
DTSTART:20240310T070000
END:DAYLIGHT
BEGIN:STANDARD
TZOFFSETFROM:-0400
TZOFFSETTO:-0500
TZNAME:EST
DTSTART:20241103T060000
END:STANDARD
END:VTIMEZONE
BEGIN:VEVENT
DTSTART;TZID=America/New_York:20240411T140000
DTEND;TZID=America/New_York:20240411T150000
DTSTAMP:20260423T072631
CREATED:20240320T195827Z
LAST-MODIFIED:20240320T195827Z
UID:12998-1712844000-1712847600@staffinghub.com
SUMMARY:Employbridge Presents the 2024 Voice of the American Workforce Survey
DESCRIPTION:Register for the webinar here \nFrom ASA: \nGet an early preview of the results from the latest Employbridge Voice of the American Workforce Survey\, one of the nation’s largest and longest-running surveys of America’s hourly workers. This webinar will explore the unique factors that attract\, motivate\, and retain hourly employees across the U.S. and beyond. Industry experts from Employbridge—ASA chair Joanie Bily and Cathi Canfield—will identify new and emerging trends while providing actionable insights to better understand today’s hourly workforce—an essential component of the U.S. economy and a driving force within the staffing industry. \nDuring this webinar\, attendees will learn: \n\nHow and why employees make decisions regarding their careers\nHow employee needs have evolved in response to our current economic climate\nRecommendations on how to attract and retain new talent\n\nRegister here. \n 
URL:https://staffinghub.com/staffing-industry-webinar/employbridge-presents-the-2024-voice-of-the-american-workforce-survey/
ATTACH;FMTTYPE=image/png:https://staffinghub.com/wp-content/uploads/2024/03/ASA-logo.png
END:VEVENT
END:VCALENDAR