BEGIN:VCALENDAR
VERSION:2.0
PRODID:-//Staffing Industry News, Events, Blog, Resources, Marketing | Staffing Hub - ECPv6.11.2.1//NONSGML v1.0//EN
CALSCALE:GREGORIAN
METHOD:PUBLISH
X-ORIGINAL-URL:https://staffinghub.com
X-WR-CALDESC:Events for Staffing Industry News, Events, Blog, Resources, Marketing | Staffing Hub
REFRESH-INTERVAL;VALUE=DURATION:PT1H
X-Robots-Tag:noindex
X-PUBLISHED-TTL:PT1H
BEGIN:VTIMEZONE
TZID:America/New_York
BEGIN:DAYLIGHT
TZOFFSETFROM:-0500
TZOFFSETTO:-0400
TZNAME:EDT
DTSTART:20240310T070000
END:DAYLIGHT
BEGIN:STANDARD
TZOFFSETFROM:-0400
TZOFFSETTO:-0500
TZNAME:EST
DTSTART:20241103T060000
END:STANDARD
END:VTIMEZONE
BEGIN:VEVENT
DTSTART;TZID=America/New_York:20240423T140000
DTEND;TZID=America/New_York:20240423T150000
DTSTAMP:20260421T114801
CREATED:20240320T201200Z
LAST-MODIFIED:20240320T201200Z
UID:13000-1713880800-1713884400@staffinghub.com
SUMMARY:Strategies for Securing Orders in a Softening Market
DESCRIPTION:Register for the webinar here \nFrom ASA: \nWho Should Attend \nStaffing\, recruiting\, and workforce solutions industry owners\, principals\, chief executive officers\, and presidents; sales and business development managers and leaders; industry professionals. \nHighlights \nNavigating through periods of softening demand can be challenging for recruiters and staffing professionals. However\, it’s during these times that innovative strategies can make all the difference in securing orders and maintaining business momentum. This webinar will delve into actionable insights and best practices tailored specifically for direct hire staffing professionals facing a softening market. Learn how leveraging technology and data can help your firm optimize business processes and decision making. \nDuring this webinar\, attendees will learn: \n\nHow understanding market dynamics can help recruiters anticipate shifts and adapt business approaches\nWays to strengthen relationships with clients and explore new partnership opportunities\nHow to diversify service offerings to mitigate the effects of market fluctuations\nTips for enhancing candidate relationships to maintain a strong talent pool\n\nRegister here. \n 
URL:https://staffinghub.com/staffing-industry-webinar/strategies-for-securing-orders-in-a-softening-market/
ATTACH;FMTTYPE=image/png:https://staffinghub.com/wp-content/uploads/2024/03/ASA-logo.png
END:VEVENT
END:VCALENDAR