BEGIN:VCALENDAR
VERSION:2.0
PRODID:-//Staffing Industry News, Events, Blog, Resources, Marketing | Staffing Hub - ECPv6.11.2.1//NONSGML v1.0//EN
CALSCALE:GREGORIAN
METHOD:PUBLISH
X-WR-CALNAME:Staffing Industry News, Events, Blog, Resources, Marketing | Staffing Hub
X-ORIGINAL-URL:https://staffinghub.com
X-WR-CALDESC:Events for Staffing Industry News, Events, Blog, Resources, Marketing | Staffing Hub
REFRESH-INTERVAL;VALUE=DURATION:PT1H
X-Robots-Tag:noindex
X-PUBLISHED-TTL:PT1H
BEGIN:VTIMEZONE
TZID:America/New_York
BEGIN:DAYLIGHT
TZOFFSETFROM:-0500
TZOFFSETTO:-0400
TZNAME:EDT
DTSTART:20240310T070000
END:DAYLIGHT
BEGIN:STANDARD
TZOFFSETFROM:-0400
TZOFFSETTO:-0500
TZNAME:EST
DTSTART:20241103T060000
END:STANDARD
END:VTIMEZONE
BEGIN:VEVENT
DTSTART;TZID=America/New_York:20240625T140000
DTEND;TZID=America/New_York:20240625T150000
DTSTAMP:20260425T054005
CREATED:20240621T202418Z
LAST-MODIFIED:20240621T202418Z
UID:13423-1719324000-1719327600@staffinghub.com
SUMMARY:Cybersecurity Best Practices for Staffing Agencies
DESCRIPTION:Register for the webinar here \nFrom American Staffing Association: \nIn an increasingly digital world\, cybersecurity has become a critical concern for businesses across all industries\, including staffing firms. This session\, which focuses on cybersecurity requirements for projects funded by the federal government\, is designed to equip staffing firm owners and employees with the knowledge and tools necessary to ensure compliance with government cybersecurity regulations and requirements. Attorneys Alex L. Sarria and Ashley Powers of Miller & Chevalier will share insights about the latest developments in government cybersecurity regulations\, government enforcement of cybersecurity breaches\, and effective strategies to ensure compliance. \nThey will also highlight best practices resources and discuss real-world examples to help your staffing firm strengthen its cybersecurity compliance program. Whether you’re an entry-level employee or an owner\, this webinar will provide valuable insights to ensure your firm maintains its cybersecurity compliance and reputation. \nDuring this webinar\, attendees will learn \n\nWhat cybersecurity challenges staffing firms face\nRecent cybersecurity regulatory developments that relate to federally funded projects\nRecent government enforcement actions related to cybersecurity breaches\nWhich resources provide best practices to ensure cybersecurity compliance\n\nRegister here.
URL:https://staffinghub.com/staffing-industry-webinar/cybersecurity-best-practices-for-staffing-agencies/
ATTACH;FMTTYPE=image/png:https://staffinghub.com/wp-content/uploads/2024/05/ASA-logo.png
END:VEVENT
END:VCALENDAR