BEGIN:VCALENDAR
VERSION:2.0
PRODID:-//Staffing Industry News, Events, Blog, Resources, Marketing | Staffing Hub - ECPv6.11.2.1//NONSGML v1.0//EN
CALSCALE:GREGORIAN
METHOD:PUBLISH
X-ORIGINAL-URL:https://staffinghub.com
X-WR-CALDESC:Events for Staffing Industry News, Events, Blog, Resources, Marketing | Staffing Hub
REFRESH-INTERVAL;VALUE=DURATION:PT1H
X-Robots-Tag:noindex
X-PUBLISHED-TTL:PT1H
BEGIN:VTIMEZONE
TZID:America/New_York
BEGIN:DAYLIGHT
TZOFFSETFROM:-0500
TZOFFSETTO:-0400
TZNAME:EDT
DTSTART:20240310T070000
END:DAYLIGHT
BEGIN:STANDARD
TZOFFSETFROM:-0400
TZOFFSETTO:-0500
TZNAME:EST
DTSTART:20241103T060000
END:STANDARD
END:VTIMEZONE
BEGIN:VEVENT
DTSTART;TZID=America/New_York:20240806T130000
DTEND;TZID=America/New_York:20240806T140000
DTSTAMP:20260421T073504
CREATED:20240729T204844Z
LAST-MODIFIED:20240729T205948Z
UID:13563-1722949200-1722952800@staffinghub.com
SUMMARY:Staffing Industry Report (Americas)
DESCRIPTION:Register for the webinar here \nFrom Staffing Industry Analysts: \nOur next Staffing Industry Report Webinar will feature fresh insights on the staffing industry in the current environment. We will discuss Renewable Energy jobs and trends in the Engineering Staffing segment\, findings from our 2024 Staffing Company Survey\, and a detailed update on Staffing-Platform-as-a-Service technology providers. Don’t miss this fast-paced webinar that will help you capitalize on this year’s key trends! \nRegister here. \n 
URL:https://staffinghub.com/staffing-industry-webinar/staffing-industry-report-americas/
ATTACH;FMTTYPE=image/png:https://staffinghub.com/wp-content/uploads/2024/07/SIA-logo.png
END:VEVENT
BEGIN:VEVENT
DTSTART;TZID=America/New_York:20240806T140000
DTEND;TZID=America/New_York:20240806T150000
DTSTAMP:20260421T073504
CREATED:20240729T205744Z
LAST-MODIFIED:20240729T205744Z
UID:13565-1722952800-1722956400@staffinghub.com
SUMMARY:Navigating New Overtime Rules: Key Changes and Legal Challenges for Staffing Employers
DESCRIPTION:Register for the webinar here \nFrom American Staffing Association: \nIn April\, the U.S. Department of Labor announced a new regulation (called the “Final Rule”) that significantly increases the level of compensation needed to qualify someone for the Fair Labor Standards Act overtime exemptions for executive\, administrative\, and professional employees.  Effective July 1\, the minimum compensation is $43\,888 annualized\, and effective Jan. 1\, 2025\, the minimum is $58\,656 annualized. The Final Rule also increases the total compensation needed to qualify someone for an overtime exemption under the test for highly compensated employees to $132\,964 per year effective July 1 and to $151\,164 per year effective Jan. 1\, 2025. In addition\, these salary levels will be subject to automatic increases every three years\, beginning July 1\, 2027. \nHowever\, after the Final Rule was issued\, lawsuits were filed seeking to set it aside. One such lawsuit in Texas has already resulted in an injunction against these changes in Texas (but not elsewhere). This webinar will provide an overview of the changes related to staffing businesses and discuss the potential effects of future litigation. \nDuring this webinar\, attendees will learn: \n\nWhat changes are made by the Final Rule under the FLSA and what the schedule of new compensation levels is\nAction steps employers should be taking now and in the next five years\nWhat options exist for compensation of employees who are no longer eligible for exemptions from overtime\nThe accompanying trends under state wage and hour laws\nWhat is happening in the courts\, and whether the new regulations will withstand scrutiny under the changing standards for federal agency authority\n\nRegister here. \n 
URL:https://staffinghub.com/staffing-industry-webinar/navigating-new-overtime-rules-key-changes-and-legal-challenges-for-staffing-employers/
ATTACH;FMTTYPE=image/png:https://staffinghub.com/wp-content/uploads/2024/07/ASA-logo-1.png
END:VEVENT
END:VCALENDAR