BEGIN:VCALENDAR
VERSION:2.0
PRODID:-//Staffing Industry News, Events, Blog, Resources, Marketing | Staffing Hub - ECPv6.11.2.1//NONSGML v1.0//EN
CALSCALE:GREGORIAN
METHOD:PUBLISH
X-ORIGINAL-URL:https://staffinghub.com
X-WR-CALDESC:Events for Staffing Industry News, Events, Blog, Resources, Marketing | Staffing Hub
REFRESH-INTERVAL;VALUE=DURATION:PT1H
X-Robots-Tag:noindex
X-PUBLISHED-TTL:PT1H
BEGIN:VTIMEZONE
TZID:America/New_York
BEGIN:DAYLIGHT
TZOFFSETFROM:-0500
TZOFFSETTO:-0400
TZNAME:EDT
DTSTART:20240310T070000
END:DAYLIGHT
BEGIN:STANDARD
TZOFFSETFROM:-0400
TZOFFSETTO:-0500
TZNAME:EST
DTSTART:20241103T060000
END:STANDARD
END:VTIMEZONE
BEGIN:VEVENT
DTSTART;TZID=America/New_York:20241010T140000
DTEND;TZID=America/New_York:20241010T150000
DTSTAMP:20260424T050320
CREATED:20240530T194654Z
LAST-MODIFIED:20240530T194654Z
UID:13348-1728568800-1728572400@staffinghub.com
SUMMARY:Empowering Talent: Upskilling and Reskilling in the Staffing Industry
DESCRIPTION:Register for the webinar here \nFrom American Staffing Association: \nIn the fast-paced staffing and recruiting industry\, upskilling and reskilling are imperative for staying ahead. In this session\, Tirranny Nettles of Yupro Placement will explore how artificial intelligence is transforming traditional practices in the staffing industry and discuss strategies to navigate these changes effectively. She’ll uncover practical insights to help staffing professionals enhance skills development\, align with evolving client needs\, and leverage innovative learning technologies. Get ready to embrace the future of staffing with confidence and innovation. \nDuring this webinar\, attendees will learn \n\nHow to navigate the changing staffing landscape by leveraging technology and adapting to market shifts effectively\nHow to identify and bridge skills gaps in administrative and professional staff\, aligning talent development with client requirements for mutual benefit\nWays to capitalize on the potential of various learning technologies such as virtual reality\, gamification\, and online platforms to create personalized learning pathways for individual development and career advancement\n\nRegister here. \n 
URL:https://staffinghub.com/staffing-industry-webinar/empowering-talent-upskilling-and-reskilling-in-the-staffing-industry/
ATTACH;FMTTYPE=image/png:https://staffinghub.com/wp-content/uploads/2024/05/ASA-logo.png
END:VEVENT
END:VCALENDAR