BEGIN:VCALENDAR
VERSION:2.0
PRODID:-//Staffing Industry News, Events, Blog, Resources, Marketing | Staffing Hub - ECPv6.11.2.1//NONSGML v1.0//EN
CALSCALE:GREGORIAN
METHOD:PUBLISH
X-ORIGINAL-URL:https://staffinghub.com
X-WR-CALDESC:Events for Staffing Industry News, Events, Blog, Resources, Marketing | Staffing Hub
REFRESH-INTERVAL;VALUE=DURATION:PT1H
X-Robots-Tag:noindex
X-PUBLISHED-TTL:PT1H
BEGIN:VTIMEZONE
TZID:America/Detroit
BEGIN:DAYLIGHT
TZOFFSETFROM:-0500
TZOFFSETTO:-0400
TZNAME:EDT
DTSTART:20260308T070000
END:DAYLIGHT
BEGIN:STANDARD
TZOFFSETFROM:-0400
TZOFFSETTO:-0500
TZNAME:EST
DTSTART:20261101T060000
END:STANDARD
END:VTIMEZONE
BEGIN:VEVENT
DTSTART;TZID=America/Detroit:20260423T130000
DTEND;TZID=America/Detroit:20260423T140000
DTSTAMP:20260422T095256
CREATED:20260422T061322Z
LAST-MODIFIED:20260422T061322Z
UID:15815-1776949200-1776952800@staffinghub.com
SUMMARY:Hired Up: Fixing your Al search results that miss the mark
DESCRIPTION:Register here \nAI hiring tools are supposed to save you time. But if you’re still manually screening hundreds of applications\, guessing why AI sourcing results are off\, or discovering that a “great candidate” might not be a real person\, the time savings aren’t happening yet. \nIn this episode\, SJ Niderost (Content at Gem) sits down with Sam Sorkin (Scaled Customer Success Manager at Gem) to walk through how teams are actually solving these problems within a single connected workflow. \nWhat you’ll learn: \n\nHow to tell AI exactly who you’re looking for\, and what to change when results come back wrong (the difference between a 27-person pool and a 10\,000-person pool is often one setting)\nWhy the same criteria you build for sourcing should automatically score your inbound applicants\, so you stop re-doing work at every stage\nHow to use AI search data in hiring manager conversations that’s grounded in who actually exists in the market\, not who they wish existed\nHow to catch fake candidates before you waste interview slots\n\nWho should attend: Recruiters\, sourcers\, and TA leaders dealing with high application volume\, niche sourcing roles\, or growing concern about candidate fraud\, who want to see what it looks like when sourcing\, screening\, and fraud detection work together instead of in silos.
URL:https://staffinghub.com/staffing-industry-webinar/hired-up-fixing-your-al-search-results-that-miss-the-mark/
ATTACH;FMTTYPE=image/png:https://staffinghub.com/wp-content/uploads/2023/10/Gem-logo-1.png
END:VEVENT
END:VCALENDAR