BEGIN:VCALENDAR
VERSION:2.0
PRODID:-//Staffing Industry News, Events, Blog, Resources, Marketing | Staffing Hub - ECPv6.11.2.1//NONSGML v1.0//EN
CALSCALE:GREGORIAN
METHOD:PUBLISH
X-ORIGINAL-URL:https://staffinghub.com
X-WR-CALDESC:Events for Staffing Industry News, Events, Blog, Resources, Marketing | Staffing Hub
REFRESH-INTERVAL;VALUE=DURATION:PT1H
X-Robots-Tag:noindex
X-PUBLISHED-TTL:PT1H
BEGIN:VTIMEZONE
TZID:America/Detroit
BEGIN:DAYLIGHT
TZOFFSETFROM:-0500
TZOFFSETTO:-0400
TZNAME:EDT
DTSTART:20260308T070000
END:DAYLIGHT
BEGIN:STANDARD
TZOFFSETFROM:-0400
TZOFFSETTO:-0500
TZNAME:EST
DTSTART:20261101T060000
END:STANDARD
END:VTIMEZONE
BEGIN:VEVENT
DTSTART;TZID=America/Detroit:20260429T100000
DTEND;TZID=America/Detroit:20260429T110000
DTSTAMP:20260424T033437
CREATED:20260422T070034Z
LAST-MODIFIED:20260422T070034Z
UID:15818-1777456800-1777460400@staffinghub.com
SUMMARY:Staffing Industry Report (Global): Staffing Market Forecasts
DESCRIPTION:Register here \nAt the beginning of each year\, SIA highlights the most significant trends that are anticipated to make the next 12 months different from prior years. These Staffing Trends reports are our most downloaded research so please join our senior research team for a discussion on what to expect in 2026. The topics we’ll cover include the shape of the post-Covid staffing market\, AI ethics bumping up against AI innovation\, direct sourcing undermining intermediary sourcing\, everything merging (!)\, staffing firms seeking growth in adjacent services and the emergence of new dominant workforce intermediaries. Change is coming – join our webinar to find out more.
URL:https://staffinghub.com/staffing-industry-webinar/staffing-industry-report-global-staffing-market-forecasts/
ATTACH;FMTTYPE=image/png:https://staffinghub.com/wp-content/uploads/2024/09/SIA-logo.png
END:VEVENT
END:VCALENDAR