BEGIN:VCALENDAR
VERSION:2.0
PRODID:-//Staffing Industry News, Events, Blog, Resources, Marketing | Staffing Hub - ECPv6.11.2.1//NONSGML v1.0//EN
CALSCALE:GREGORIAN
METHOD:PUBLISH
X-WR-CALNAME:Staffing Industry News, Events, Blog, Resources, Marketing | Staffing Hub
X-ORIGINAL-URL:https://staffinghub.com
X-WR-CALDESC:Events for Staffing Industry News, Events, Blog, Resources, Marketing | Staffing Hub
REFRESH-INTERVAL;VALUE=DURATION:PT1H
X-Robots-Tag:noindex
X-PUBLISHED-TTL:PT1H
BEGIN:VTIMEZONE
TZID:America/Detroit
BEGIN:DAYLIGHT
TZOFFSETFROM:-0500
TZOFFSETTO:-0400
TZNAME:EDT
DTSTART:20260308T070000
END:DAYLIGHT
BEGIN:STANDARD
TZOFFSETFROM:-0400
TZOFFSETTO:-0500
TZNAME:EST
DTSTART:20261101T060000
END:STANDARD
END:VTIMEZONE
BEGIN:VTIMEZONE
TZID:America/Denver
BEGIN:DAYLIGHT
TZOFFSETFROM:-0700
TZOFFSETTO:-0600
TZNAME:MDT
DTSTART:20260308T090000
END:DAYLIGHT
BEGIN:STANDARD
TZOFFSETFROM:-0600
TZOFFSETTO:-0700
TZNAME:MST
DTSTART:20261101T080000
END:STANDARD
END:VTIMEZONE
BEGIN:VEVENT
DTSTART;TZID=America/Detroit:20260430T140000
DTEND;TZID=America/Detroit:20260430T150000
DTSTAMP:20260422T115216
CREATED:20260419T144913Z
LAST-MODIFIED:20260419T144913Z
UID:15801-1777557600-1777561200@staffinghub.com
SUMMARY:The Virtual Recruiter Experience: How Agentic and Voice AI Are Reshaping Candidate Engagement in Staffing
DESCRIPTION:Register here \nWho Should Attend\nStaffing\, recruiting\, and workforce solutions industry owners\, principals\, chief executive officers\, presidents\, and branch managers; recruiting professionals \nHighlights\nAgentic artificial intelligence in staffing is no longer experimental; it’s fully operational and transforming how firms engage\, screen\, and place candidates. In this webinar\, representatives from ASA corporate partner ConverzAI will explore how leading staffing firms are using agentic AI and voice AI tools to deliver speed without sacrificing the human experience. \nYou’ll gain a practical\, behind-the-scenes look at what it’s like to implement and use a virtual recruiter\, how candidates interact with AI across text messaging\, voice\, and email\, and how firms are driving measurable results like increased engagement\, faster screening\, and improved recruiter productivity. The presenters also will cover how to adopt AI while protecting your brand\, best practices for candidate success\, and what’s next in the evolution of agentic AI—giving you a clear path to scale smarter and stay competitive in 2026 and beyond. \nDuring this webinar\, attendees will learn \n\nHow agentic AI and voice AI tools are accelerating time-to-fill and driving more placements\nHow to increase candidate engagement and reduce drop-off with omnichannel AI (text\, voice\, and email)\nHow to implement a virtual recruiter to boost recruiter productivity and deliver measurable return on investment
URL:https://staffinghub.com/staffing-industry-webinar/the-virtual-recruiter-experience-how-agentic-and-voice-ai-are-reshaping-candidate-engagement-in-staffing/
ATTACH;FMTTYPE=image/jpeg:https://staffinghub.com/wp-content/uploads/2026/02/ASA-logo.jpg
END:VEVENT
BEGIN:VEVENT
DTSTART;TZID=America/Detroit:20260505T130000
DTEND;TZID=America/Detroit:20260505T140000
DTSTAMP:20260422T115216
CREATED:20260422T070809Z
LAST-MODIFIED:20260422T070809Z
UID:15819-1777986000-1777989600@staffinghub.com
SUMMARY:Fighting Hiring Fraud at Scale: How Staffing Firms Can Protect Clients and Candidates
DESCRIPTION:Register here \nHiring fraud is accelerating—and staffing firms are feeling the pressure. With remote hiring\, higher volumes\, and AI in the mix\, risks like identity theft\, fake credentials\, and document manipulation are becoming everyday challenges. In this session\, Checkr’s Ilan Frank and SIA’s Kevin Chen explore the latest fraud trends and why traditional background checks alone fall short. Discover how modern identity verification and resume fraud detection can help you reduce risk\, protect clients\, and keep placements moving quickly. \nLearn how to: \nRecognize emerging patterns of modern hiring fraud\, including identity theft\, synthetic identities\, falsified credentials\, and document manipulation \nEvaluate gaps in your current screening and fraud‑prevention practices\, and identify where traditional background checks fall short without additional identity verification safeguards. \nCreate staffing workflows that incorporate modern identity verification\, balancing fraud prevention with speed and candidate experience to better protect clients and strengthen long‑term relationships.
URL:https://staffinghub.com/staffing-industry-webinar/fighting-hiring-fraud-at-scale-how-staffing-firms-can-protect-clients-and-candidates/
ATTACH;FMTTYPE=image/png:https://staffinghub.com/wp-content/uploads/2024/09/SIA-logo.png
END:VEVENT
BEGIN:VEVENT
DTSTART;TZID=America/Detroit:20260506T100000
DTEND;TZID=America/Detroit:20260506T110000
DTSTAMP:20260422T115216
CREATED:20260422T063002Z
LAST-MODIFIED:20260422T063002Z
UID:15816-1778061600-1778065200@staffinghub.com
SUMMARY:Rewrite the rules of what’s possible with AI
DESCRIPTION:Register here \nAI is not some future concept; it’s here. Candidates are applying to hundreds of jobs with a single click\, and the market is demanding unprecedented speed. The gap between agencies who embrace this new AI reality and those who cling to old playbooks is rapidly becoming unbridgeable. \nJoin Bullhorn to see how you can seamlessly infuse AI into your workflows and create a more efficient\, effective\, and future-proof recruitment process that lets you rewrite the rules on what’s possible. \nIn this session\, you’ll learn: \n\nHow AI allows you to break chain of headcount to growth\nHow our customers are utilising Bullhorn Amplify to make more placements from their existing database\nHow AI screening is tackling mass applications and fake candidates\, whilst giving every candidate a fair chance in the process.
URL:https://staffinghub.com/staffing-industry-webinar/rewrite-the-rules-of-whats-possible-with-ai/
ATTACH;FMTTYPE=image/png:https://staffinghub.com/wp-content/uploads/2025/03/Bullhorn-logo.png
END:VEVENT
BEGIN:VEVENT
DTSTART;TZID=America/Detroit:20260507T130000
DTEND;TZID=America/Detroit:20260507T134500
DTSTAMP:20260422T115216
CREATED:20260422T063847Z
LAST-MODIFIED:20260422T063847Z
UID:15817-1778158800-1778161500@staffinghub.com
SUMMARY:Navigating the AI Shift: How Staffing Firms are Winning with Sense AI and Avionté
DESCRIPTION:Register here \nAI is changing how staffing firms recruit\, but knowing which tools to adopt\, and how to get your team to actually use them\, is what separates firms that win from those that wait. Join Avionté and Sense for a live look at what’s working right now. \nWhat You’ll Learn\n\nSee It in Action — Live Demo\nGet a firsthand look at how Sense AI Recruiter seamlessly integrates directly into your existing Avionté environment to automate candidate screening and engagement.\nMaster the AI Transition\nLearn actionable change management strategies to successfully train your recruiters\, overcome internal resistance\, and adopt AI tools without disrupting your current processes.\nDiscover Real-World ROI\nHear the exact metrics\, time-savings\, and placement boosts that staffing firms are already achieving by combining the power of Sense and Avionté.
URL:https://staffinghub.com/staffing-industry-webinar/navigating-the-ai-shift-how-staffing-firms-are-winning-with-sense-ai-and-avionte/
ATTACH;FMTTYPE=image/jpeg:https://staffinghub.com/wp-content/uploads/2025/09/Avionte-Logo.jpg
END:VEVENT
BEGIN:VEVENT
DTSTART;TZID=America/Detroit:20260507T140000
DTEND;TZID=America/Detroit:20260507T150000
DTSTAMP:20260422T115216
CREATED:20260419T152936Z
LAST-MODIFIED:20260419T152936Z
UID:15804-1778162400-1778166000@staffinghub.com
SUMMARY:Stay Top of Mind: How Staffing Firms Drive Sales Through Branded Content
DESCRIPTION:Register here \nIn staffing\, it can be hard to be at the right place at the right time…with every client and prospect. \nThe staffing firms that consistently stay in front of their clients and candidates are the ones that win repeat business\, earn referrals\, and ensure they’re top-of-mind when staffing needs occur. But most firms struggle to maintain that consistency. \nIn this Lunch with Haley\, you will learn: \n\nWhy consistent communication is the most underused growth lever in staffing\nHow branded publications build trust and keep your firm top of mind with clients and candidates\nThe role of email newsletters\, print and digital magazines\, and direct mail in a modern marketing mix\nHow nurturing automation keeps prospects warm without adding to your team’s workload\nWhat top-performing firms do differently to stay visible between sales conversations\n\nIf you want to be the first firm your clients and candidates think of\, this session will show you how.
URL:https://staffinghub.com/staffing-industry-webinar/stay-top-of-mind-how-staffing-firms-drive-sales-through-branded-content/
ATTACH;FMTTYPE=image/webp:https://staffinghub.com/wp-content/uploads/2025/04/Lunch-with-Haley.webp
END:VEVENT
BEGIN:VEVENT
DTSTART;TZID=America/Detroit:20260512T140000
DTEND;TZID=America/Detroit:20260512T150000
DTSTAMP:20260422T115216
CREATED:20260226T085557Z
LAST-MODIFIED:20260226T085557Z
UID:15554-1778594400-1778598000@staffinghub.com
SUMMARY:Brand Like a Boss: Level Up Your Presence
DESCRIPTION:Register here \nWho Should Attend\nStaffing and recruiting industry owners\, principals\, chief executive officers\, and presidents; sales and business development managers and leaders; industry professionals \nHighlights\nIt’s time for a fresh focus on you—your brand\, your value\, and the relationships you build. This webinar features a panel of personal branding experts who will break down the essentials of personal branding in the staffing world\, defining your unique value\, increasing your visibility\, and using the right tools and vendors to support your growth. \nPanelists will also explore how personal branding deepens long-term client relationships\, even as contacts move across multiple companies\, and how new and emerging sales talent can develop a stronger presence and stay competitive in today’s environment. \nDuring this webinar\, attendees will learn: \n\nA clear framework for defining and communicating one’s personal value\, beyond a company’s brand\nStrategies for building deeper\, more durable client relationships that follow your contacts as they transition across organizations\nApproaches to strengthen conversations\, boost confidence\, and improve credibility with clients and candidates
URL:https://staffinghub.com/staffing-industry-webinar/brand-like-a-boss-level-up-your-presence/
ATTACH;FMTTYPE=image/jpeg:https://staffinghub.com/wp-content/uploads/2026/02/ASA-logo.jpg
END:VEVENT
BEGIN:VEVENT
DTSTART;VALUE=DATE:20260514
DTEND;VALUE=DATE:20260515
DTSTAMP:20260422T115216
CREATED:20260318T154146Z
LAST-MODIFIED:20260318T154146Z
UID:15668-1778716800-1778803199@staffinghub.com
SUMMARY:Avoiding ACA Penalties
DESCRIPTION:Register here \nJoin Selerix and Avionté\, a trusted staffing technology partner\, for a practical\, mid-year ACA compliance webinar designed specifically for the staffing industry. This session will focus on what staffing firms should be doing right now to stay compliant\, from tracking variable-hour employees to preparing accurate\, ACA-ready data for the second half of the year. \nHosted by Michelle Kershner\, Senior Director of Sales at Selerix\, and Kelli Smith\, Director of ACA Compliance at Selerix\, this webinar will provide expert guidance grounded in real-world staffing scenarios. You’ll also hear insights from Scott Posech\, Senior Vice President at Avionté\, who will share how staffing technology and data alignment play a critical role in supporting ACA compliance and operational confidence. \nTogether\, our experts will walk through a practical mid-year ACA framework\, highlight common staffing-specific compliance pitfalls\, and discuss how strong processes and trusted partnerships help staffing firms stay ahead of ACA obligations. \nIn this webinar\, you’ll learn how to: \n* Identify ACA compliance risks that commonly lead to penalties \n* Review mid-year employee hours\, eligibility\, and measurement periods \n* Improve data accuracy to support ACA reporting and audit readiness \n* Align staffing technology and ACA compliance strategy for long-term success \n* Review penalty letters and responses \nThis webinar is ideal for Avionté customers looking to strengthen ACA compliance using their staffing technology.
URL:https://staffinghub.com/staffing-industry-webinar/avoiding-aca-penalties/
ATTACH;FMTTYPE=image/png:https://staffinghub.com/wp-content/uploads/2026/03/selerix.png
END:VEVENT
BEGIN:VEVENT
DTSTART;TZID=America/Detroit:20260602T140000
DTEND;TZID=America/Detroit:20260602T150000
DTSTAMP:20260422T115216
CREATED:20260419T145943Z
LAST-MODIFIED:20260419T145943Z
UID:15802-1780408800-1780412400@staffinghub.com
SUMMARY:The Staffing Productivity Report: Benchmarks to Understand Industry Trends
DESCRIPTION:Register here \nWho Should Attend\nStaffing\, recruiting\, and workforce solutions industry owners\, chief executive officers\, presidents\, chief operations officers\, branch managers and talent acquisition leaders; press and public relations professionals covering the workforce solutions industry. \nHighlights\nJoin the American Staffing Association and its corporate partner Prodoscore as they unveil a jointly developed Staffing Productivity Report. Set to be released on a quarterly basis\, the Staffing Productivity Report will summarize recruiter productivity\, work patterns and artificial intelligence tool usage trends\, providing valuable benchmarks for staffing firms to gauge recruiting desk progress\, identify opportunities for improvement and augment employee growth. \nDuring this webinar\, attendees will learn \n\nThe predictive power of recruiter activity for industry momentum\nHow to use technology strategically to meet placement objectives\nWhat distinguishes top-performing staff and how to assess performance benchmarks\nPivotal collaboration opportunities to promote engagement\, productivity\, and transparency among management and staff
URL:https://staffinghub.com/staffing-industry-webinar/the-staffing-productivity-report-benchmarks-to-understand-industry-trends/
ATTACH;FMTTYPE=image/jpeg:https://staffinghub.com/wp-content/uploads/2026/02/ASA-logo.jpg
END:VEVENT
END:VCALENDAR