BEGIN:VCALENDAR
VERSION:2.0
PRODID:-//Staffing Industry News, Events, Blog, Resources, Marketing | Staffing Hub - ECPv6.11.2.1//NONSGML v1.0//EN
CALSCALE:GREGORIAN
METHOD:PUBLISH
X-WR-CALNAME:Staffing Industry News, Events, Blog, Resources, Marketing | Staffing Hub
X-ORIGINAL-URL:https://staffinghub.com
X-WR-CALDESC:Events for Staffing Industry News, Events, Blog, Resources, Marketing | Staffing Hub
REFRESH-INTERVAL;VALUE=DURATION:PT1H
X-Robots-Tag:noindex
X-PUBLISHED-TTL:PT1H
BEGIN:VTIMEZONE
TZID:America/Detroit
BEGIN:DAYLIGHT
TZOFFSETFROM:-0500
TZOFFSETTO:-0400
TZNAME:EDT
DTSTART:20260308T070000
END:DAYLIGHT
BEGIN:STANDARD
TZOFFSETFROM:-0400
TZOFFSETTO:-0500
TZNAME:EST
DTSTART:20261101T060000
END:STANDARD
END:VTIMEZONE
BEGIN:VTIMEZONE
TZID:America/Denver
BEGIN:DAYLIGHT
TZOFFSETFROM:-0700
TZOFFSETTO:-0600
TZNAME:MDT
DTSTART:20260308T090000
END:DAYLIGHT
BEGIN:STANDARD
TZOFFSETFROM:-0600
TZOFFSETTO:-0700
TZNAME:MST
DTSTART:20261101T080000
END:STANDARD
END:VTIMEZONE
BEGIN:VEVENT
DTSTART;TZID=America/Detroit:20260318T100000
DTEND;TZID=America/Detroit:20260318T110000
DTSTAMP:20260420T035812
CREATED:20260311T093433Z
LAST-MODIFIED:20260311T093433Z
UID:15623-1773828000-1773831600@staffinghub.com
SUMMARY:The ultimate use case guide: Solving 2026 recruitment challenges with Bullhorn Amplify
DESCRIPTION:Register here \nThe 2026 Bullhorn GRID data is clear: to stay competitive\, you need to turn AI potential into actual placements. \nIn our upcoming webinar\, we’ll walk through the most common client challenges and the specific Bullhorn Amplify use cases that address them. Learn how to map Amplify activities directly to your pain points to drive speed and productivity. \nWhat we’ll cover: \n\nKey data points on productivity\, speed\, and the role of AI from the GRID 2026 Industry Trends Report.\nA walkthrough of real-world use cases that addresses top staffing challenges.\nHow current customers are increasing throughput and placement volume without adding headcount.
URL:https://staffinghub.com/staffing-industry-webinar/the-ultimate-use-case-guide-solving-2026-recruitment-challenges-with-bullhorn-amplify/
ATTACH;FMTTYPE=image/png:https://staffinghub.com/wp-content/uploads/2025/03/Bullhorn-logo.png
END:VEVENT
BEGIN:VEVENT
DTSTART;TZID=America/Detroit:20260319T100000
DTEND;TZID=America/Detroit:20260319T110000
DTSTAMP:20260420T035812
CREATED:20260204T164316Z
LAST-MODIFIED:20260204T164316Z
UID:15458-1773914400-1773918000@staffinghub.com
SUMMARY:Bullhorn Basics Webinar Series - Episode 3
DESCRIPTION:Register here \nRegister for tips\, expert advice and more. \nLet’s bring it back to the basics! Unlock the potential of the tools you have at your disposal by learning from the experts. If you’re new to Bullhorn Analytics\, Automation and/or ATS\, or you would like to brush up on some of the basics of the platform\, then this is the webinar series is for you. \nThis series includes: \n\nEpisode 1: Managing Credentials and Compliance\n2nd February @ 2PM GMT / 9AM ET\nEpisode 2: Bullhorn Chatbot Masterclass: From blueprints to full customisation\n25th February @ 2PM GMT / 9AM ET\nEpisode 3: Amplify\n19th March @ 3PM GMT / 10AM ET\n\nThis webinar is part of the Bullhorn Basics webinar series. Register for one or many!
URL:https://staffinghub.com/staffing-industry-webinar/bullhorn-basics-webinar-series-2/
ATTACH;FMTTYPE=image/png:https://staffinghub.com/wp-content/uploads/2025/03/Bullhorn-logo.png
END:VEVENT
BEGIN:VEVENT
DTSTART;TZID=America/Detroit:20260319T130000
DTEND;TZID=America/Detroit:20260319T140000
DTSTAMP:20260420T035812
CREATED:20260318T153255Z
LAST-MODIFIED:20260318T153255Z
UID:15667-1773925200-1773928800@staffinghub.com
SUMMARY:Hired up: How to stop wasting weeks on wrong candidates
DESCRIPTION:Register here \nMost recruiters treat the intake doc as a formality. The best ones treat it as their primary calibration opportunity. \nThe best recruiters know the intake meeting isn’t just a check-the-box step. Get it right\, and you’re aligned\, sourcing the right people from day one. Get it wrong\, and you’re three weeks in\, starting over. \nJoin Gem’s SJ Niderost\, Nathalie Grandy (Director of Recruiting\, Linktree)\, and Tony Le (Senior Talent Acquisition Leader\, CDW) on March 19th at 10 am PT to break down what a great intake doc actually looks like\, how to define your ICP for any role\, and how to use both to run a tighter\, more aligned search. \nWhat you’ll learn: \n\nHow to lead a kickoff that establishes you as a strategic talent partner\nHow to define your dream candidate so every search and conversation is pulling in the same direction\nHow to walk into the hiring manager kickoff with structure\, not assumptions\nHow to use AI to instantly convert your intake doc into screening criteria\, ranked applicants\, and targeted searches automatically\n\nThis session is for you if you’ve ever found yourself three weeks into a search\, realizing you and your hiring manager aren’t on the same page.
URL:https://staffinghub.com/staffing-industry-webinar/hired-up-how-to-stop-wasting-weeks-on-wrong-candidates/
ATTACH;FMTTYPE=image/png:https://staffinghub.com/wp-content/uploads/2023/10/Gem-logo-1.png
END:VEVENT
BEGIN:VEVENT
DTSTART;TZID=America/Detroit:20260319T140000
DTEND;TZID=America/Detroit:20260319T150000
DTSTAMP:20260420T035812
CREATED:20260226T082431Z
LAST-MODIFIED:20260226T082431Z
UID:15548-1773928800-1773932400@staffinghub.com
SUMMARY:Essential Sales Tools for 2026: How Staffing Firms Sell Smarter Today
DESCRIPTION:Register here \nTop staffing firms aren’t just selling differently — they’re selling smarter. \nIn this Lunch with Haley\, we’ll walk through the essential tools\, content\, and AI workflows every staffing firm needs in 2026 to shorten sales cycles\, differentiate effectively\, and empower buyers to make decisions faster. \nYou’ll see: \n\nWhat’s changed in the 2026 buyer journey — and how to adapt\nThe self-service and buyer-enablement assets every firm should have\nPractical examples of sales collateral that increase conversion • How to use automation and AI to strengthen follow-up\nTools that accelerate proposals\, presentations\, and positioning\n\nWhether you’re refining your process or rebuilding it\, this session gives you a sharper sales toolbox for 2026.
URL:https://staffinghub.com/staffing-industry-webinar/essential-sales-tools-for-2026-how-staffing-firms-sell-smarter-today/
ATTACH;FMTTYPE=image/webp:https://staffinghub.com/wp-content/uploads/2025/04/Lunch-with-Haley.webp
END:VEVENT
BEGIN:VEVENT
DTSTART;TZID=America/Detroit:20260323T110000
DTEND;TZID=America/Detroit:20260323T120000
DTSTAMP:20260420T035812
CREATED:20260311T094238Z
LAST-MODIFIED:20260311T094238Z
UID:15624-1774263600-1774267200@staffinghub.com
SUMMARY:How to use your tech to amplify your agency’s growth
DESCRIPTION:Register here \nUnifying your recruitment technology can be the key to unlocking unprecedented business growth. Join us for a practical look at how Pioneer Selection transitioned from disconnected systems to a powerful\, consolidated tech suite. If you’re struggling with siloed systems or wondering how to effectively integrate new AI tools into your workflows\, this session will show you how to move from scattered tech to structured\, scalable impact. \nWe’ll explore Pioneer Selection’s journey\, from their initial adoption of Bullhorn’s CRM/ATS\, Automation\, and Analytics in 2016 to their latest platform advancements \nYou’ll learn: \n\nThe strategic priorities that strengthen database health\, elevate candidate engagement\, and sharpen client delivery.\nThe real operational advantage of a unified platform where your systems work together – not against each other.\nPractical guidance on tech consolidation\, and how to bring your recruitment stack into one powerful\, connected ecosystem.\nHow Bullhorn Amplify drives growth\, unlocking new revenue opportunities while future-proofing your agency.
URL:https://staffinghub.com/staffing-industry-webinar/how-to-use-your-tech-to-amplify-your-agencys-growth/
ATTACH;FMTTYPE=image/png:https://staffinghub.com/wp-content/uploads/2025/03/Bullhorn-logo.png
END:VEVENT
BEGIN:VEVENT
DTSTART;TZID=America/Detroit:20260325T140000
DTEND;TZID=America/Detroit:20260325T150000
DTSTAMP:20260420T035812
CREATED:20260318T152324Z
LAST-MODIFIED:20260318T152324Z
UID:15665-1774447200-1774450800@staffinghub.com
SUMMARY:Outbound is Back: How Lean Teams Win Without Burning Out
DESCRIPTION:Register here \nRecruiting teams are being asked to attract more qualified talent with fewer resources. Without a clear system\, outbound can quickly turn into inconsistent execution\, generic messaging\, and outreach fatigue that hurts response rates and candidate perception. \nIn this session\, we will walk through repeatable recruiting outbound motions: building strong lists\, using real signals to prioritize who to contact\, writing relevant messaging\, and running a cadence that stays consistent without being relentless. \nAttendees Will Learn: \n\nHow to build a repeatable recruiting outbound workflow: lists → signals → messaging → cadence\nHow to prioritize outreach using signals and reduce wasted touches\nHow to personalize at scale without losing a human voice (light AI assist\, heavy relevance)\nGuardrails that protect your employer brand: deliverability basics and frequency caps\nHow to measure progress: reply rate\, positive response rate\, and time-to-first-slate
URL:https://staffinghub.com/staffing-industry-webinar/outbound-is-back-how-lean-teams-win-without-burning-out/
ATTACH;FMTTYPE=image/png:https://staffinghub.com/wp-content/uploads/2026/03/ERE-Media.png
END:VEVENT
BEGIN:VEVENT
DTSTART;TZID=America/Detroit:20260331T140000
DTEND;TZID=America/Detroit:20260331T144500
DTSTAMP:20260420T035812
CREATED:20260318T155051Z
LAST-MODIFIED:20260318T155051Z
UID:15671-1774965600-1774968300@staffinghub.com
SUMMARY:Growing Your Healthcare Capabilities: Live Life Healthy (LLH) Joins the Avionté Ecosystem
DESCRIPTION:Register here \nMeet LLH Healthcare\, the new Avionté+ Certified Partner helping staffing agencies attract more candidates\, reduce turnover\, and strengthen their bottom line without adding administrative complexity. \nWhat You’ll Learn\n\nPractical Healthcare Solutions That Impact Every Hire\nWe’ll break down how LLH Healthcare delivers zero-out-of-pocket\, day-one benefits to every W-2 employee\, regardless of hours or job type.\nDifferentiation and Retention That Moves the Needle\nTurnover is expensive. We’ll discuss how agencies using LLH Healthcare are converting interest into placements and placements into long-term loyalty.\nIntegration That Keeps Admin Burden Low and Business Impact High\nThe last thing your team needs is another system to manage. We’ll show you how LLH Healthcare plugs directly into the Avionté platform\, so your recruiters can focus on placements and not paperwork.
URL:https://staffinghub.com/staffing-industry-webinar/growing-your-healthcare-capabilities-live-life-healthy-llh-joins-the-avionte-ecosystem/
ATTACH;FMTTYPE=image/jpeg:https://staffinghub.com/wp-content/uploads/2025/09/Avionte-Logo.jpg
END:VEVENT
BEGIN:VEVENT
DTSTART;TZID=America/Detroit:20260331T140000
DTEND;TZID=America/Detroit:20260331T150000
DTSTAMP:20260420T035812
CREATED:20260226T084655Z
LAST-MODIFIED:20260226T084655Z
UID:15552-1774965600-1774969200@staffinghub.com
SUMMARY:ASA State of the Industry Webinar Series—First Quarter Update for Staffing Professionals
DESCRIPTION:Register here \nWho Should Attend\nStaffing\, recruiting\, and workforce solutions professionals\, including company owners\, executives\, sales and marketing staff\, and search and placement professionals \nHighlights\nASA and ClearlyRated\, the association’s satisfaction survey partner\, for more than a decade bring you the ASA State of the Industry webinar series for 2026. This highly rated\, free quarterly webinar brings industry leaders the most important trends\, research and legislative updates affecting the industry right now. These quarterly sessions will help your firm stay the course and outpace your competition.
URL:https://staffinghub.com/staffing-industry-webinar/asa-state-of-the-industry-webinar-series-first-quarter-update-for-staffing-professionals/
ATTACH;FMTTYPE=image/jpeg:https://staffinghub.com/wp-content/uploads/2026/02/ASA-logo.jpg
END:VEVENT
BEGIN:VEVENT
DTSTART;TZID=America/Detroit:20260421T140000
DTEND;TZID=America/Detroit:20260421T150000
DTSTAMP:20260420T035812
CREATED:20260419T151902Z
LAST-MODIFIED:20260419T151902Z
UID:15803-1776780000-1776783600@staffinghub.com
SUMMARY:RogIQ: Join the Rogue Rebellion
DESCRIPTION:Register here \nRogIQ is the AI marketing assistant built for small teams who refuse to think small. It’s smarter\, faster\, and brilliantly unconventional. \nGet ready to meet RogIQ! \nMost marketing platforms were built for enterprise teams with enterprise budgets. RogIQ was built for teams that are smart. Scrappy. And moving fast. \nRogIQ solves your biggest marketing challenges: \n\nNo more time drain. RogIQ takes care of strategy\, content & execution.\nOne platform. One plan. All your SEO\, blogs & social marketing in one place.\nCreate once. Use everywhere. RogIQ optimizes and repurposes everywhere.\nProven process. Based on 30-years of staffing marketing expertise.\nAI efficiency. 140+ LLMs orchestrated into one very affordable platform.\n\nRogIQ is your UNFAIR MARKETING ADVANTAGE. \nJoin us for this product demo\, and see what RogIQ can do for you.
URL:https://staffinghub.com/staffing-industry-webinar/rogiq-join-the-rogue-rebellion/
ATTACH;FMTTYPE=image/jpeg:https://staffinghub.com/wp-content/uploads/2025/05/HMG_Logo.jpg
END:VEVENT
BEGIN:VEVENT
DTSTART;TZID=America/Detroit:20260428T110000
DTEND;TZID=America/Detroit:20260428T120000
DTSTAMP:20260420T035812
CREATED:20260419T143055Z
LAST-MODIFIED:20260419T143055Z
UID:15799-1777374000-1777377600@staffinghub.com
SUMMARY:Introducing Tracker's LinkedIn RSC integration and what it unlocks for Hiring Assistant
DESCRIPTION:Register here \nTracker is now one of the first ATS platforms to go live with LinkedIn’s RSC+ integration\, built on top of LinkedIn’s flagship Recruiter System Connect (RSC) framework\, enabling Connected Projects for LinkedIn Hiring Assistant customers. That means a unified applicant pipeline\, smarter AI-powered evaluations drawing from both LinkedIn and Tracker data\, and real-time sync back to your ATS — all available today. \nThis webinar is your chance to see exactly how it works\, hear from the people building and using it\, and leave knowing how to get it set up in your own Tracker account. \nWhat we’ll cover: \n\nA live product demo of the Tracker + LinkedIn RSC integration\nWhat RSC+\, Connected Projects\, and Hiring Assistant actually do inside Tracker\nWhy this is a step change for staffing and recruiting agencies\nReal results from a Tracker customer already using the integration
URL:https://staffinghub.com/staffing-industry-webinar/introducing-trackers-linkedin-rsc-integration-and-what-it-unlocks-for-hiring-assistant/
ATTACH;FMTTYPE=image/png:https://staffinghub.com/wp-content/uploads/2024/11/tracker.png
END:VEVENT
BEGIN:VEVENT
DTSTART;TZID=America/Detroit:20260428T140000
DTEND;TZID=America/Detroit:20260428T150000
DTSTAMP:20260420T035812
CREATED:20260419T144119Z
LAST-MODIFIED:20260419T144119Z
UID:15800-1777384800-1777388400@staffinghub.com
SUMMARY:Driving Change: The Three Shifts for Acceleration and Evolution
DESCRIPTION:Register here \nWho Should Attend\nStaffing\, recruiting\, and workforce solutions industry owners\, principals\, chief executive officers\, presidents\, and branch managers; recruiting professionals \nHighlights\nWhether by choice or by force\, shifts regularly happen in your business. Whether you’re able to navigate with purpose and alignment or you struggle when faced with roadblocks is based on how ready your leaders and teams are to design and drive change. \nIn this webinar\, Painted Porch Strategies founder and organizational shift strategist Amy Yackowski will teach you the three shifts you need to make as a business leader for transformation\, acceleration\, and evolution. \nDuring this webinar\, attendees will learn \n\nWhat factors affect their change readiness\, and ways to turn obstacles into opportunities for growth and transformation\nWays to reduce risk and promote engagement when exploring a new change\nHow to activate the three shifts that can accelerate initiative\, reduce resistance\, and overcome challenges
URL:https://staffinghub.com/staffing-industry-webinar/driving-change-the-three-shifts-for-acceleration-and-evolution/
ATTACH;FMTTYPE=image/jpeg:https://staffinghub.com/wp-content/uploads/2026/02/ASA-logo.jpg
END:VEVENT
BEGIN:VEVENT
DTSTART;TZID=America/Detroit:20260430T140000
DTEND;TZID=America/Detroit:20260430T150000
DTSTAMP:20260420T035812
CREATED:20260419T144913Z
LAST-MODIFIED:20260419T144913Z
UID:15801-1777557600-1777561200@staffinghub.com
SUMMARY:The Virtual Recruiter Experience: How Agentic and Voice AI Are Reshaping Candidate Engagement in Staffing
DESCRIPTION:Register here \nWho Should Attend\nStaffing\, recruiting\, and workforce solutions industry owners\, principals\, chief executive officers\, presidents\, and branch managers; recruiting professionals \nHighlights\nAgentic artificial intelligence in staffing is no longer experimental; it’s fully operational and transforming how firms engage\, screen\, and place candidates. In this webinar\, representatives from ASA corporate partner ConverzAI will explore how leading staffing firms are using agentic AI and voice AI tools to deliver speed without sacrificing the human experience. \nYou’ll gain a practical\, behind-the-scenes look at what it’s like to implement and use a virtual recruiter\, how candidates interact with AI across text messaging\, voice\, and email\, and how firms are driving measurable results like increased engagement\, faster screening\, and improved recruiter productivity. The presenters also will cover how to adopt AI while protecting your brand\, best practices for candidate success\, and what’s next in the evolution of agentic AI—giving you a clear path to scale smarter and stay competitive in 2026 and beyond. \nDuring this webinar\, attendees will learn \n\nHow agentic AI and voice AI tools are accelerating time-to-fill and driving more placements\nHow to increase candidate engagement and reduce drop-off with omnichannel AI (text\, voice\, and email)\nHow to implement a virtual recruiter to boost recruiter productivity and deliver measurable return on investment
URL:https://staffinghub.com/staffing-industry-webinar/the-virtual-recruiter-experience-how-agentic-and-voice-ai-are-reshaping-candidate-engagement-in-staffing/
ATTACH;FMTTYPE=image/jpeg:https://staffinghub.com/wp-content/uploads/2026/02/ASA-logo.jpg
END:VEVENT
BEGIN:VEVENT
DTSTART;TZID=America/Detroit:20260507T140000
DTEND;TZID=America/Detroit:20260507T150000
DTSTAMP:20260420T035812
CREATED:20260419T152936Z
LAST-MODIFIED:20260419T152936Z
UID:15804-1778162400-1778166000@staffinghub.com
SUMMARY:Stay Top of Mind: How Staffing Firms Drive Sales Through Branded Content
DESCRIPTION:Register here \nIn staffing\, it can be hard to be at the right place at the right time…with every client and prospect. \nThe staffing firms that consistently stay in front of their clients and candidates are the ones that win repeat business\, earn referrals\, and ensure they’re top-of-mind when staffing needs occur. But most firms struggle to maintain that consistency. \nIn this Lunch with Haley\, you will learn: \n\nWhy consistent communication is the most underused growth lever in staffing\nHow branded publications build trust and keep your firm top of mind with clients and candidates\nThe role of email newsletters\, print and digital magazines\, and direct mail in a modern marketing mix\nHow nurturing automation keeps prospects warm without adding to your team’s workload\nWhat top-performing firms do differently to stay visible between sales conversations\n\nIf you want to be the first firm your clients and candidates think of\, this session will show you how.
URL:https://staffinghub.com/staffing-industry-webinar/stay-top-of-mind-how-staffing-firms-drive-sales-through-branded-content/
ATTACH;FMTTYPE=image/webp:https://staffinghub.com/wp-content/uploads/2025/04/Lunch-with-Haley.webp
END:VEVENT
BEGIN:VEVENT
DTSTART;TZID=America/Detroit:20260512T140000
DTEND;TZID=America/Detroit:20260512T150000
DTSTAMP:20260420T035812
CREATED:20260226T085557Z
LAST-MODIFIED:20260226T085557Z
UID:15554-1778594400-1778598000@staffinghub.com
SUMMARY:Brand Like a Boss: Level Up Your Presence
DESCRIPTION:Register here \nWho Should Attend\nStaffing and recruiting industry owners\, principals\, chief executive officers\, and presidents; sales and business development managers and leaders; industry professionals \nHighlights\nIt’s time for a fresh focus on you—your brand\, your value\, and the relationships you build. This webinar features a panel of personal branding experts who will break down the essentials of personal branding in the staffing world\, defining your unique value\, increasing your visibility\, and using the right tools and vendors to support your growth. \nPanelists will also explore how personal branding deepens long-term client relationships\, even as contacts move across multiple companies\, and how new and emerging sales talent can develop a stronger presence and stay competitive in today’s environment. \nDuring this webinar\, attendees will learn: \n\nA clear framework for defining and communicating one’s personal value\, beyond a company’s brand\nStrategies for building deeper\, more durable client relationships that follow your contacts as they transition across organizations\nApproaches to strengthen conversations\, boost confidence\, and improve credibility with clients and candidates
URL:https://staffinghub.com/staffing-industry-webinar/brand-like-a-boss-level-up-your-presence/
ATTACH;FMTTYPE=image/jpeg:https://staffinghub.com/wp-content/uploads/2026/02/ASA-logo.jpg
END:VEVENT
BEGIN:VEVENT
DTSTART;VALUE=DATE:20260514
DTEND;VALUE=DATE:20260515
DTSTAMP:20260420T035812
CREATED:20260318T154146Z
LAST-MODIFIED:20260318T154146Z
UID:15668-1778716800-1778803199@staffinghub.com
SUMMARY:Avoiding ACA Penalties
DESCRIPTION:Register here \nJoin Selerix and Avionté\, a trusted staffing technology partner\, for a practical\, mid-year ACA compliance webinar designed specifically for the staffing industry. This session will focus on what staffing firms should be doing right now to stay compliant\, from tracking variable-hour employees to preparing accurate\, ACA-ready data for the second half of the year. \nHosted by Michelle Kershner\, Senior Director of Sales at Selerix\, and Kelli Smith\, Director of ACA Compliance at Selerix\, this webinar will provide expert guidance grounded in real-world staffing scenarios. You’ll also hear insights from Scott Posech\, Senior Vice President at Avionté\, who will share how staffing technology and data alignment play a critical role in supporting ACA compliance and operational confidence. \nTogether\, our experts will walk through a practical mid-year ACA framework\, highlight common staffing-specific compliance pitfalls\, and discuss how strong processes and trusted partnerships help staffing firms stay ahead of ACA obligations. \nIn this webinar\, you’ll learn how to: \n* Identify ACA compliance risks that commonly lead to penalties \n* Review mid-year employee hours\, eligibility\, and measurement periods \n* Improve data accuracy to support ACA reporting and audit readiness \n* Align staffing technology and ACA compliance strategy for long-term success \n* Review penalty letters and responses \nThis webinar is ideal for Avionté customers looking to strengthen ACA compliance using their staffing technology.
URL:https://staffinghub.com/staffing-industry-webinar/avoiding-aca-penalties/
ATTACH;FMTTYPE=image/png:https://staffinghub.com/wp-content/uploads/2026/03/selerix.png
END:VEVENT
BEGIN:VEVENT
DTSTART;TZID=America/Detroit:20260602T140000
DTEND;TZID=America/Detroit:20260602T150000
DTSTAMP:20260420T035812
CREATED:20260419T145943Z
LAST-MODIFIED:20260419T145943Z
UID:15802-1780408800-1780412400@staffinghub.com
SUMMARY:The Staffing Productivity Report: Benchmarks to Understand Industry Trends
DESCRIPTION:Register here \nWho Should Attend\nStaffing\, recruiting\, and workforce solutions industry owners\, chief executive officers\, presidents\, chief operations officers\, branch managers and talent acquisition leaders; press and public relations professionals covering the workforce solutions industry. \nHighlights\nJoin the American Staffing Association and its corporate partner Prodoscore as they unveil a jointly developed Staffing Productivity Report. Set to be released on a quarterly basis\, the Staffing Productivity Report will summarize recruiter productivity\, work patterns and artificial intelligence tool usage trends\, providing valuable benchmarks for staffing firms to gauge recruiting desk progress\, identify opportunities for improvement and augment employee growth. \nDuring this webinar\, attendees will learn \n\nThe predictive power of recruiter activity for industry momentum\nHow to use technology strategically to meet placement objectives\nWhat distinguishes top-performing staff and how to assess performance benchmarks\nPivotal collaboration opportunities to promote engagement\, productivity\, and transparency among management and staff
URL:https://staffinghub.com/staffing-industry-webinar/the-staffing-productivity-report-benchmarks-to-understand-industry-trends/
ATTACH;FMTTYPE=image/jpeg:https://staffinghub.com/wp-content/uploads/2026/02/ASA-logo.jpg
END:VEVENT
END:VCALENDAR